Workbook

Sheet GESAMT
A1: Bremen | B1: 2015 | C1: 2016 | D1: 2017 | E1: 2018 | F1: 2019 | G1: 2020
A2: Personal | B2: =Bremen!D3 -> 362916.67 | C2: =Bremen!E3 -> 871000 | D2: =Bremen!F3 -> 884065 | E2: =Bremen!G3 -> 897325.97 | F2: =Bremen!H3 -> 910785.86 | G2: =Bremen!I3 -> 924447.65
A3: Sachmittel | B3: =Bremen!D9 -> 72583.333 | C3: =Bremen!E9 -> 174200 | D3: =Bremen!F9 -> 177684 | E3: =Bremen!G9 -> 181237.68 | F3: =Bremen!H9 -> 184862.43 | G3: =Bremen!I9 -> 188559.68
A4: Investitionen | B4: =Bremen!D11 -> 30000 | C4: =Bremen!E11 -> 4000 | D4: =Bremen!F11 -> 4000 | E4: =Bremen!G11 -> 4000 | F4: =Bremen!H11 -> 4000 | G4: =Bremen!I11 -> 4000
A5: GESAMT | B5: =SUM(B2:B4) -> 465500 | C5: =SUM(C2:C4) -> 1049200 | D5: =SUM(D2:D4) -> 1065749 | E5: =SUM(E2:E4) -> 1082563.7 | F5: =SUM(F2:F4) -> 1099648.3 | G5: =SUM(G2:G4) -> 1117007.3
A7: Bremerhaven | B7: 2015 | C7: 2016 | D7: 2017 | E7: 2018 | F7: 2019 | G7: 2020
A8: Personal | B8: =Bremerhaven!D3 -> 172812.08 | C8: =Bremerhaven!E3 -> 414749 | D8: =Bremerhaven!F3 -> 420970.23 | E8: =Bremerhaven!G3 -> 427284.79 | F8: =Bremerhaven!H3 -> 433694.06 | G8: =Bremerhaven!I3 -> 440199.47
A9: Sachmittel | B9: =Bremerhaven!D10 -> 34562.417 | C9: =Bremerhaven!E10 -> 82949.8 | D9: =Bremerhaven!F10 -> 84608.796 | E9: =Bremerhaven!G10 -> 86300.972 | F9: =Bremerhaven!H10 -> 88026.991 | G9: =Bremerhaven!I10 -> 89787.531
A10: Investitionen | B10: =Bremerhaven!D13 -> 33000 | C10: =Bremerhaven!E13 -> 700 | D10: =Bremerhaven!F13 -> 700 | E10: =Bremerhaven!G13 -> 700 | F10: =Bremerhaven!H13 -> 700 | G10: =Bremerhaven!I13 -> 3400
A11: GESAMT | B11: =SUM(B8:B10) -> 240374.5 | C11: =SUM(C8:C10) -> 498398.8 | D11: =SUM(D8:D10) -> 506279.03 | E11: =SUM(E8:E10) -> 514285.76 | F11: =SUM(F8:F10) -> 522421.05 | G11: =SUM(G8:G10) -> 533387
A13: Mehraufwand | B13: 2015 | C13: 2016 | D13: 2017 | E13: 2018 | F13: 2019 | G13: 2020
A14: Personal HB | B14: =B2 -> 362916.67 | C14: =C2 -> 871000 | D14: =D2 -> 884065 | E14: =E2 -> 897325.97 | F14: =F2 -> 910785.86 | G14: =G2 -> 924447.65
A15: Personal Bhv | B15: =B8 -> 172812.08 | C15: =C8 -> 414749 | D15: =D8 -> 420970.23 | E15: =E8 -> 427284.79 | F15: =F8 -> 433694.06 | G15: =G8 -> 440199.47
A16: GES. PERSONAL | B16: =SUM(B14:B15) -> 535728.75 | C16: =SUM(C14:C15) -> 1285749 | D16: =SUM(D14:D15) -> 1305035.2 | E16: =SUM(E14:E15) -> 1324610.8 | F16: =SUM(F14:F15) -> 1344479.9 | G16: =SUM(G14:G15) -> 1364647.1
A17: Sachmittel HB | B17: =B3 -> 72583.333 | C17: =C3 -> 174200 | D17: =D3 -> 177684 | E17: =E3 -> 181237.68 | F17: =F3 -> 184862.43 | G17: =G3 -> 188559.68
A18: Sachmittel Bhv | B18: =B9 -> 34562.417 | C18: =C9 -> 82949.8 | D18: =D9 -> 84608.796 | E18: =E9 -> 86300.972 | F18: =F9 -> 88026.991 | G18: =G9 -> 89787.531
A19: GES. SACHMITTEL | B19: =SUM(B17:B18) -> 107145.75 | C19: =SUM(C17:C18) -> 257149.8 | D19: =SUM(D17:D18) -> 262292.8 | E19: =SUM(E17:E18) -> 267538.65 | F19: =SUM(F17:F18) -> 272889.42 | G19: =SUM(G17:G18) -> 278347.21
A20: Investitionen HB | B20: =B4 -> 30000 | C20: =C4 -> 4000 | D20: =D4 -> 4000 | E20: =E4 -> 4000 | F20: =F4 -> 4000 | G20: =G4 -> 4000
A21: Investitionen Bhv | B21: =B10 -> 33000 | C21: =C10 -> 700 | D21: =D10 -> 700 | E21: =E10 -> 700 | F21: =F10 -> 700 | G21: =G10 -> 3400
A22: GES. INVESTITIONEN | B22: =SUM(B20:B21) -> 63000 | C22: =SUM(C20:C21) -> 4700 | D22: =SUM(D20:D21) -> 4700 | E22: =SUM(E20:E21) -> 4700 | F22: =SUM(F20:F21) -> 4700 | G22: =SUM(G20:G21) -> 7400
A24: GESAMT | B24: =B16+B19+B22 -> 705874.5 | C24: =C16+C19+C22 -> 1547598.8 | D24: =D16+D19+D22 -> 1572028 | E24: =E16+E19+E22 -> 1596849.4 | F24: =F16+F19+F22 -> 1622069.3 | G24: =G16+G19+G22 -> 1650394.3 | H24: =SUM(B24:G24) -> 8694814.4 | I24: ges.
H25: =H24-B24 -> 7988939.9 | I25: 2016 bis 2020
A26: Synergie- und Einspareffekte | B26: 2015 | C26: 2016 | D26: 2017 | E26: 2018 | F26: 2019 | G26: 2020
A27: Bremen | B27: =Bremen!D24 -> 0 | C27: =Bremen!E24 -> 120000 | D27: =Bremen!F24 -> 390234.38 | E27: =Bremen!G24 -> 843062.5 | F27: =Bremen!H24 -> 1367746.9 | G27: =Bremen!I24 -> 2109125
A28: Bremerhaven | B28: =Bremerhaven!D28 -> 0 | C28: =Bremerhaven!E28 -> 117000 | D28: =Bremerhaven!F28 -> 247078.12 | E28: =Bremerhaven!G28 -> 466437.5 | F28: =Bremerhaven!H28 -> 766365.62 | G28: =Bremerhaven!I28 -> 1274925
A30: GESAMT | B30: =SUM(B27:B28) -> 0 | C30: =SUM(C27:C28) -> 237000 | D30: =SUM(D27:D28) -> 637312.5 | E30: =SUM(E27:E28) -> 1309500 | F30: =SUM(F27:F28) -> 2134112.5 | G30: =SUM(G27:G28) -> 3384050 | H30: =SUM(B30:G30) -> 7701975
A39: Eingesetzte Ressourcen pro Jahr | D39: Schätzung
A40: Schulbereich Bremen | D40: =SBW!H33 -> 7246740.7
A41: Schulbereich Bremerhaven | D41: ='Dez IV'!H35 -> 0
A42: GESAMT SCHULBEREICH | D42: =SUM(D40:E41) -> 7246740.7
A43: Agentur für Arbeit (SBG II) Bremen | F43: plus 41 Stellen
A44: Agentur für Arbeit (SGB II) Bremerhaven | F44: plus 13 Stellen
A45: GESAMT AGENTUR FÜR ARBEIT (SGB II) | D45: ='SGB III'!C18 -> 10613000 | F45: plus 54 Stellen
A46: Jobcenter (SGB III) Bremen | D46: ='SGB II'!C14 -> 5600000 | F46: plus 53 Stellen
A47: Jobcenter (SGB III) Bremerhaven | D47: ='SGB II'!C30 -> 2213000 | F47: plus 16 Stellen
A48: GESAMT JOBCENTER (SGB II) | D48: =SUM(D46:E47) -> 7813000 | F48: plus 70 Stellen
A49: SGB VIII

Sheet SGB III
A1: Agentur für Arbeit Bremen-Bremerhaven | B1: Schätzung (pro Jahr) | D1: davon in Bremerhaven
A2: eingesetzte Ressourcen: | B2: Vollzeitstellen | C2: in € | D2: Vollzeitstellen | E2: in €
A3: Maßnahmen
A4: a) spezielle Maßnahmen der Berufsberatung für Jüngere (BvB, BaE, abH, EQ, BerEB, Berufsorientierungsmaßnahmen) | C4: 4000000
A5: b) Maßnahmen der Arbeitsvermittlung für Jüngere ohne Berufsabschluss (z.B. EGZ, FbW, GZ) | C5: 500000
A6: c) Maßnahmen für schwerbehinderte Jugendliche | C6: 100000
A7: d) Maßnahmen für die Ersteingliederung junger Rehabilitanden | C7: 13000
A8: e) Übernahme der Kosten für die WfBM | C8: 6000000
A9: Personal
A10: Berufsberatung für junge Menschen mit Berufsbildungsreife oder Mittlerem Schulabschluss | B10: 18 | D10: 6
A11: Berufsberatung für Abiturientinnen/Abiturienten und Fachabiturientinnen/-abiturienten | B11: 9.5 | D11: 1.5
A12: Beratung in der Rehabilitation-Ersteingliederung | B12: 5 | D12: 1
A13: Fachassistenz in der Eingangszone | B13: 9 | D13: 1
A14: Fachassistenz im Berufsinformationszentrum | B14: 3 | D14: 1
A15: arbeitnehmerorientierte Arbeitsvermittlung | B15: 3 | D15: 1
A16: arbeitgeberorientierte Arbeitsvermittlung | B16: 4.5 | D16: 0.5
A17: Teamleitungen | B17: 2 | D17: 1
A18: GESAMT | B18: =SUM(B10:B17) -> 54 | C18: =SUM(C4:C17) -> 10613000 | D18: =SUM(D10:D17) -> 13 | E18: =SUM(E4:E17) -> 0

Sheet SGB II
A1: Jobcenter Bremen | B1: Schätzung (pro Jahr)
A2: eingesetzte Ressourcen: | B2: Vollzeitstellen | C2: in €
A3: Maßnahmen
A4: a) BaE, abH, EQ einschl. Vorschaltmaßnahme BaE und TM Ausbildungssuche | C4: 3000000
A5: b) weitere Maßnahmen zur Aktivierung: Aktivierungshilfen, Jobcoach usw. | C5: 1000000
A6: c) Maßnahmen zur Qualifizierung und Integration in den Arbeitsmarkt, z. B. EGZ, FbW, ESG | C6: 1000000
A7: d) Arbeitsgelegenheiten | C7: 600000
A8: Personal
A9: Arbeitsvermittlung | B9: 25
A10: Fallmanagement | B10: 10
A11: Ausbildungsvermittlung | B11: 9
A12: Empfang/Eingangszone | B12: 6
A13: Teamleitungen | B13: 3
A14: GESAMT | B14: =SUM(B9:B13) -> 53 | C14: =SUM(C4:C13) -> 5600000
A16: Jobcenter Bremerhaven | B16: Schätzung (pro Jahr)
A17: eingesetzte Ressourcen: | B17: Vollzeitstellen | C17: in €
A18: Maßnahmen
A19: a) BaE, abH, EQ einschl. Vorschaltmaßnahme BaE und TM Ausbildungssuche | C19: 1000000
A20: b) weitere Maßnahmen zur Aktivierung: Aktivierungshilfen, Jobcoach usw. | C20: 800000
A21: c) Maßnahmen zur Qualifizierung und Integration in den Arbeitsmarkt, z. B. EGZ, FbW, ESG | C21: 250000
A22: d) Arbeitsgelegenheiten | C22: 75000
A23: e) Rückübertragung Ausbildungsvermittlung | C23: 88000
A24: Personal
A25: Arbeitsvermittlung | B25: 10.6
A26: Fallmanagement | B26: 2
A27: Ausbildungsvermittlung | B27: Rückübertragung an Agentur für Arbeit
A28: Projektbetreuung Kompass vor Ort beim Träger durch Ausbildungsvermittlung U25 (?) | B28: 2
A29: Teamleitungen | B29: 1
A30: GESAMT | B30: =SUM(B25:B29) -> 15.6 | C30: =SUM(C19:C29) -> 2213000

Sheet Bremen
A1: Stadt Bremen | D1: 2015 | E1: 2016 | F1: 2017 | G1: 2018 | H1: 2019 | I1: 2020
A2: Ressourcenbedarf
A3: Personal | D3: =D5+D6+D7 -> 362916.67 | E3: =E5+E6+E7 -> 871000 | F3: =F5+F6+F7 -> 884065 | G3: =G5+G6+G7 -> 897325.97 | H3: =H5+H6+H7 -> 910785.86 | I3: =I5+I6+I7 -> 924447.65
A4: darunter: | B4: Stellenvolumen | C4: Eingruppierung
A5: 1. | B5: 1 | C5: EG 14 | D5: =E5/12*5 -> 33250 | E5: 79800 | F5: =E5*1.015 -> 80997 | G5: =F5*1.015 -> 82211.955 | H5: =G5*1.015 -> 83445.134 | I5: =H5*1.015 -> 84696.811 | K5: 1 Stelle 2016 = | L5: 79800
A6: 2. | B6: 8 | C6: EG 11 | D6: =E6/12*5 -> 225333.33 | E6: =67600*8 -> 540800 | F6: =E6*1.015 -> 548912 | G6: =F6*1.015 -> 557145.68 | H6: =G6*1.015 -> 565502.87 | I6: =H6*1.015 -> 573985.41 | K6: 1 Stelle 2016 = | L6: 67600
A7: 3. | B7: 4 | C7: EG 10 | D7: =E7/12*5 -> 104333.33 | E7: =62600*4 -> 250400 | F7: =E7*1.015 -> 254156 | G7: =F7*1.015 -> 257968.34 | H7: =G7*1.015 -> 261837.87 | I7: =H7*1.015 -> 265765.43 | K7: 1 Stelle 2016 = | L7: 62600
A9: Sachmittel | D9: =D3/100*20 -> 72583.333 | E9: =E3/100*20 -> 174200 | F9: =E9*1.02 -> 177684 | G9: =F9*1.02 -> 181237.68 | H9: =G9*1.02 -> 184862.43 | I9: =H9*1.02 -> 188559.68
A11: Investitionen | D11: =[1]SBW!D12 -> 30000 | E11: =[1]SBW!E12 -> 4000 | F11: =[1]SBW!F12 -> 4000 | G11: =[1]SBW!G12 -> 4000 | H11: =[1]SBW!H12 -> 4000 | I11: =[1]SBW!I12 -> 4000
A13: GESAMT | D13: =SUM(D3+D9+D11) -> 465500 | E13: =SUM(E3+E9+E11) -> 1049200 | F13: =SUM(F3+F9+F11) -> 1065749 | G13: =SUM(G3+G9+G11) -> 1082563.7 | H13: =SUM(H3+H9+H11) -> 1099648.3 | I13: =SUM(I3+I9+I11) -> 1117007.3
A14: nachrichtlich: 2 Stellen EG 11 für neue Aufgabe der JBA "Aufsuchende Beratung" aus ESF finanziert (SWAH) | D14: 108160 | E14: 162240 | F14: 167107 | G14: 172120 | H14: 177284 | I14: 182603
D18: 2015 | E18: 2016 | F18: 2017 | G18: 2018 | H18: 2019 | I18: 2020
A19: Synergie- und Einspareffekte
A20: Leistungen nach § 41 SGB VIII | E20: =SKJF!E20 -> 120000 | F20: =SKJF!F20 -> 360000 | G20: =SKJF!G20 -> 600000 | H20: =SKJF!H20 -> 600000 | I20: =SKJF!I20 -> 600000
A21: Transferleistungen nach SGB II kommunal (KdU) | D21: ='Einsparungen SGB II HB'!B9 -> 0 | E21: ='Einsparungen SGB II HB'!C9 -> 0 | F21: ='Einsparungen SGB II HB'!D9 -> 0 | G21: ='Einsparungen SGB II HB'!E9 -> 170500 | H21: ='Einsparungen SGB II HB'!F9 -> 664950 | I21: ='Einsparungen SGB II HB'!G9 -> 1364000
A22: Einsparungen JBA im schul. Übergangssystem | D22: =SBW!D19 -> 0 | E22: =SBW!E19 -> 0 | F22: =SBW!F19 -> 30234.375 | G22: =SBW!G19 -> 72562.5 | H22: =SBW!H19 -> 102796.88 | I22: =SBW!I19 -> 145125
A24: GESAMT | D24: =SUM(D20:D22) -> 0 | E24: =SUM(E20:E22) -> 120000 | F24: =SUM(F20:F22) -> 390234.38 | G24: =SUM(G20:G22) -> 843062.5 | H24: =SUM(H20:H22) -> 1367746.9 | I24: =SUM(I20:I22) -> 2109125
A26: Personal ab August 2015 (= 5 Monate im Jahr 2015), Steigerung der Personalkosten ab 2017 um jährlich 1,5 %
A27: Sachkosten = 20 % der Personalkosten 2015 und 2016, ab 2017 Steigerung um jährlich 2 %
A29: Erläuterung zum Personal:
A30: Die Servicestelle Bremen besteht aus mindestens 3 Stellen. 2 Stellen (SBW = EG 14, SKJF = EG 11) werden beantragt. SWHA finanziert eine EG 12-Stelle aus eigenem Personalbestand.
A31: Mit 6 EG 11-Stellen sollen die BO-Teams an den allgemeinbildenden Schulen verstärkt werden. Mit 1 EG 11-Stelle soll das Schnittstellenmanagement vom Amt für Soziale Dienste in die JBA sichergestellt werden.
A32: Mit den 4 EG 10-Stellen werden sozialpädagogische Fachberater/-innen bei SKJF eingestellt.
A33: Die aufsuchende Beratung ist eine neue Aufgabe: Für jeden Standort der JBA ist eine Stelle vorgesehen, die bei SWAH angesiedelt ist. Jede/r Jugendliche soll erreicht werden. Damit werden sich die Fallzahlen der zu Betreuenden zunächst erhöhen.
A35: Erläuterung zu den Synergie- und Spareffekten:
A36: Die Einsparungen des Bundes bezogen auf die Transferleistungen werden hier nicht dargestellt. Die Jugendberufsagentur besteht aus mehreren Partnern, die ihre Einsparungen zunächst selbst berechnen.
A37: Die Einsparungen im Bereich des SGB VIII sind zu 100 % kommunal ("Kosten der Unterkunft", KdU), ebenso die Einsparungen im Übergangssystem.
A38: Eine Reduzierung der Fallzahl für Leistungen nach § 41 SGB VIII um 50 Fälle mach bei Jahresdurchschnittskosten von 15.000 € ingesamt ein Potential von 750.000 € aus.
A39: Für Maßnahmen im sogenannten Übergangssystem werden im Land Bremen 32 Mio. € jährlich aufgewendet. Zur Finanzierung tragen alle Partner der JBA bei. Die Wirtschaftlichkeitsberechnung kann nur gemeinsam vorgenommen werden.

Sheet SBW
A1: SBW | D1: 2015 | E1: 2016 | F1: 2017 | G1: 2018 | H1: 2019 | I1: 2020
A2: Ressourcenbedarf
A3: Personal | D3: =SUM(D5:D7) -> 202250 | E3: =SUM(E5:E7) -> 485400 | F3: =SUM(F5:F7) -> 492681 | G3: =SUM(G5:G7) -> 500071.21 | H3: =SUM(H5:H7) -> 507572.28 | I3: =SUM(I5:I7) -> 515185.87
A4: darunter: | B4: Stellenvolumen | C4: Eingruppierung
A5: Servicestelle | B5: 1 | C5: EG 14 | D5: =E5/12*5 -> 33250 | E5: 79800 | F5: =E5*1.015 -> 80997 | G5: =F5*1.015 -> 82211.955 | H5: =G5*1.015 -> 83445.134 | I5: =H5*1.015 -> 84696.811
A6: BO-Teams | B6: 6 | C6: EG 11 | D6: =E6/12*5 -> 169000 | E6: =67600*6 -> 405600 | F6: =E6*1.015 -> 411684 | G6: =F6*1.015 -> 417859.26 | H6: =G6*1.015 -> 424127.15 | I6: =H6*1.015 -> 430489.06
A9: Sachmittel | D9: =D3/100*20 -> 40450 | E9: =E3/100*20 -> 97080 | F9: =E9*1.02 -> 99021.6 | G9: =F9*1.02 -> 101002.03 | H9: =G9*1.02 -> 103022.07 | I9: =H9*1.02 -> 105082.51
A11: Investitionen | D11: 30000 | E11: 4000 | F11: 4000 | G11: 4000 | H11: 4000 | I11: 4000 | J11: Erweiterung Schulverwaltungssoftware und
J12: Folgekosten
A13: GESAMT | D13: =SUM(D3+D9+D11) -> 272700 | E13: =SUM(E3+E9+E11) -> 586480 | F13: =SUM(F3+F9+F11) -> 595702.6 | G13: =SUM(G3+G9+G11) -> 605073.25 | H13: =SUM(H3+H9+H11) -> 614594.36 | I13: =SUM(I3+I9+I11) -> 624268.38
D17: 2015 | E17: 2016 | F17: 2017 | G17: 2018 | H17: 2019 | I17: 2020
A18: Synergie- und Einspareffekte
A19: Einsparungen JBA im schul. Übergangssystem | D19: =D53 -> 0 | E19: =E53 -> 0 | F19: =F53 -> 30234.375 | G19: =G53 -> 72562.5 | H19: =H53 -> 102796.88 | I19: =I53 -> 145125
A21: GESAMT | D21: =D19 -> 0 | E21: =E19 -> 0 | F21: =F19 -> 30234.375 | G21: =G19 -> 72562.5 | H21: =H19 -> 102796.88 | I21: =I19 -> 145125
A25: eingesetzte Ressourcen (SCHÄTZUNG) | F25: Jahreswochenstunden | H25: in €
A26: Berufsorientierung in den Klassen der Jahrgänge 5 bis 10
A27: a) im Unterricht: 2 Lehrerstunden pro Klasse und Jahr (1110 Klassenverbände) | F27: =2*1110 -> 2220 | H27: =F27/27*50000 -> 4111111.1
A28: b) im Praktikum: 1,75 Jahreswochenstunden pro Klasse im 9. Jahrgang (208 Klassenverbände) | F28: =1.75*208 -> 364 | H28: =F28/27*50000 -> 674074.07
A29: c) zusätzliche Beratungs- und Unterstützungsleistungen: 1 Jahreswochenstunde pro Klasse | F29: =1*1110 -> 1110 | H29: =F29/27*50000 -> 2055555.6
A30: "Schullaufbahnberatung und Übergänge" in den Regionalen Beratungs- und Unterstützungszentren (4 Stellen mit jeweils rund 70 % des Stellenanteils) | H30: =4*50000*0.7 -> 140000
A31: Berufspädagogische Beratungsstelle (2,44 VZ-Stellen) | F31: =2.44*25 -> 61 | H31: =F31/25*50000 -> 122000
A32: Zentrale Beratung Berufsfachschule (2,88 VZ-Stellen) | F32: =2.88*25 -> 72 | H32: =F32/25*50000 -> 144000
A33: GESAMT | H33: =SUM(H27:H32) -> 7246740.7
A35: Es wird von einer durchschnittlichen wöchentlichen Unterrichtsverpflichtung von 27 Stunden pro Lehr-/Beratungskraft in den allgemeinbildenden Schulen und 25 Stunden pro Lehrkraft in der beruflichen Schule und einem Finanzmitteläquivalent von 50.000 € ausgegangen.
A44: Erläuterungen zu den Einsparungen im schulischen Übergangssystem:
A45: Durch die Arbeit der Jugendberufsagentur wird darüber hinaus davon ausgegangen, dass zusätzliche Plätze im schulischen Übergangssystem eingespart und im Gegenzug mehr Plätze im dualen Schulsystem geschaffen werden können. Der hier dargestellten Berechnung liegt die Annahme zugrunde, dass die Maßnahmen der JBA dazu führen, dass im August 2017 und 2018 jeweils mindestens ein Klassenverband (mit 22,5 Plätzen) und im August 2019 und August 2020 jeweils mindestens ein weiterer Klassenverband (also jeweils zwei) im Übergangssystem eingespart werden können. Den eingesparten 5.700 € pro Platz werden die 1.400 € gegenübergestellt, die ein Platz im dualen Schulsystem kostet. Netto ergibt sich so eine Einsparung in Höhe von 4.300 € pro Platz. Hinweis: Die Ausgaben und Einsparungen im Rahmen der Ausbildungsgarantie durch die Umwandlung von Plätzen in einjährigen schulischen Maßnahmen zu Plätzen in einem ersten Ausbildungsjahr sind hier nicht dargestellt.
A46: Einsparungen im schulischen Übergangssystem durch die JBA | D46: 2015 | E46: 2016 | F46: 2017 | G46: 2018 | H46: 2019 | I46: 2020
A47: durch die JBA eingesparte Klassenverbände (KV) | F47: 1 | G47: 1 | H47: 2 | I47: 2
A48: durch die JBA eingesparte Plätze (22,5 pro KV) | F48: 22.5 | G48: 22.5 | H48: 45 | I48: 45
A49: eingesparte Kosten pro Platz/Jahr (5.700 - 1.400 = 4.300) | F49: =F48*4300 -> 96750 | G49: =G48*4300 -> 96750 | H49: =H48*4300 -> 193500 | I49: =I48*4300 -> 193500
A50: Einsparungen August bis Dezember (5 Monate) | F50: =F49/12*5 -> 40312.5 | G50: =G49/12*5 -> 40312.5 | H50: =H49/12*5 -> 80625 | I50: =I49/12*5 -> 80625
A51: Einsparungen Januar bis Juli (7 Monate) | G51: =F49/12*7 -> 56437.5 | H51: =G49/12*7 -> 56437.5 | I51: =H49/12*7 -> 112875
A52: Einsparungen ingesamt im Land Bremen | F52: =SUM(F50:F51) -> 40312.5 | G52: =SUM(G50:G51) -> 96750 | H52: =SUM(H50:H51) -> 137062.5 | I52: =SUM(I50:I51) -> 193500
A53: davon in der Stadt Bremen | F53: =F52/4*3 -> 30234.375 | G53: =G52/4*3 -> 72562.5 | H53: =H52/4*3 -> 102796.88 | I53: =I52/4*3 -> 145125
A54: davon in der Stadt Bremerhaven | F54: =F52/4 -> 10078.125 | G54: =G52/4 -> 24187.5 | H54: =H52/4 -> 34265.625 | I54: =I52/4 -> 48375

Sheet SKJF
A1: SKJF | D1: 2015 | E1: 2016 | F1: 2017 | G1: 2018 | H1: 2019 | I1: 2020
A2: Ressourcenbedarf
A3: Personal | D3: =SUM(D5:D8) -> 104333.33 | E3: =SUM(E5:E8) -> 385600 | F3: =SUM(F5:F8) -> 391384 | G3: =SUM(G5:G8) -> 397254.76 | H3: =SUM(H5:H8) -> 403213.58 | I3: =SUM(I5:I8) -> 409261.79
A4: darunter: | B4: Stellenvolumen | C4: Eingruppierung
A5: Schnittstellenmanagement | B5: 1 | C5: EG 11 | E5: 67600 | F5: =E5*1.015 -> 68614 | G5: =F5*1.015 -> 69643.21 | H5: =G5*1.015 -> 70687.858 | I5: =H5*1.015 -> 71748.176
A6: zentrale Servicestelle | B6: 1 | C6: EG 11 | E6: 67600 | F6: =E6*1.015 -> 68614 | G6: =F6*1.015 -> 69643.21 | H6: =G6*1.015 -> 70687.858 | I6: =H6*1.015 -> 71748.176
A7: Sozialpädagogen | B7: 4 | C7: EG 10 | D7: =E7/12*5 -> 104333.33 | E7: =4*62600 -> 250400 | F7: =E7*1.015 -> 254156 | G7: =F7*1.015 -> 257968.34 | H7: =G7*1.015 -> 261837.87 | I7: =H7*1.015 -> 265765.43
A10: Sachmittel | D10: =D3/100*20 -> 20866.667 | E10: =E3/100*20 -> 77120 | F10: =E10*1.02 -> 78662.4 | G10: =F10*1.02 -> 80235.648 | H10: =G10*1.02 -> 81840.361 | I10: =H10*1.02 -> 83477.168
A12: Investitionen
A14: GESAMT | D14: =SUM(D3+D10+D12) -> 125200 | E14: =SUM(E3+E10+E12) -> 462720 | F14: =SUM(F3+F10+F12) -> 470046.4 | G14: =SUM(G3+G10+G12) -> 477490.41 | H14: =SUM(H3+H10+H12) -> 485053.94 | I14: =SUM(I3+I10+I12) -> 492738.95
D18: 2015 | E18: 2016 | F18: 2017 | G18: 2018 | H18: 2019 | I18: 2020
A19: Synergie- und Einspareffekte
A20: Leistungen nach § 41 SGB VIII | E20: 120000 | F20: 360000 | G20: 600000 | H20: 600000 | I20: 600000
A24: GESAMT | D24: =SUM(D20:D22) -> 0 | E24: =SUM(E20:E22) -> 120000 | F24: =SUM(F20:F22) -> 360000 | G24: =SUM(G20:G22) -> 600000 | H24: =SUM(H20:H22) -> 600000 | I24: =SUM(I20:I22) -> 600000

Sheet Einsparungen SGB II HB
A1: durchschnittliche kommunale Kosten pro Haushalt ("Kosten der Unterkunft" = KdU) | B1: pro Monat: | C1: 341 | D1: pro Jahr: | E1: =C1*12 -> 4092
A3: Stadt Bremen | B3: 2015 | C3: 2016 | D3: 2017 | E3: 2018 | F3: 2019 | G3: 2020
A4: (zusätzliche) Personen, die durch die JBA nach einer Ausbildung ab August einen existenzsichernden Arbeitsplatz finden | E4: 100 | F4: 150 | G4: 200
A5: Reduzierungen der Personen, die durch die JBA nach einer Ausbildung einen existenzsichernden Arbeitsplatz finden, August bis Dezember | E5: =E4 -> 100 | F5: =E5+F4 -> 250 | G5: =F5+G4 -> 450
A6: Reduzierungen der Personen, die durch die JBA nach einer Ausbildung einen existenzsichernden Arbeitsplatz finden, Januar bis Juli | F6: =E5 -> 100 | G6: =F5 -> 250
A7: Einsparungen kommunale Transferkosten August bis Dezember | E7: =E5*($E$1/12*5) -> 170500 | F7: =F5*($E$1/12*5) -> 426250 | G7: =G5*($E$1/12*5) -> 767250
A8: Einsparungen kommunale Transferkosten Januar bis Juli | F8: =F6*($E$1/12*7) -> 238700 | G8: =G6*($E$1/12*7) -> 596750
A9: Einsparungen kommunale Transferkosten Personen mit Ausbildung Januar bis Dezember | E9: =SUM(E7:E8) -> 170500 | F9: =SUM(F7:F8) -> 664950 | G9: =SUM(G7:G8) -> 1364000
A12: Die Zielgruppe der JBA sind junge Menschen bis 25 Jahren, die wir zu einem Berufsabschluss führen wollen, um eine verfestigte Langzeitarbeitslosigkeit dauerhaft zu vermeiden. Wichtige aktuelle Fakten für die Entscheidung, eine JBA auf den Weg zu bringen: • Mit Stichtag November 2014 haben wir im Land Bremen 5.419 arbeitslose Personen ohne Berufsabschluss, von denen 5.090 SGB II-Bezieher/-innen sind. • Von 1.430 Personen, die im letzten Jahr bei der Berufsberatung als ausbildungsplatzsu-chend gemeldet waren, haben wir keine Angaben zum Verbleib. • 2.446 junge Menschen, deren Schulabgangsjahr bereits in den Vorjahren lag, haben im letzten Jahr einen Ausbildungsplatz gesucht. An diesen seit Jahren gleichbleibend viel zu hohen Werten wollen wir mit der JBA durch eine veränderte Zusammenarbeit etwas ändern.
A13: Annahme: Nach Abschluss ihrer Ausbildung bedürfen weniger junge Menschen ergänzende Hilfen (Kosten der Unterkunft), weil sie eine Arbeitsstelle finden. In dieser Argumentationslogik treten die Effekte nach Beendigung der Ausbildung ein, also erstmals zum August 2018: Ab August 2018: 100 Personen Ab August 2019: weitere 150 Personen Ab August 2020: weitere 200 Personen Wie in der Vorlage zur Ausbildungsgarantie wird weiter davon ausgegangen, dass die betroffenen jungen Menschen für mindestens 3 Jahre keine kommunalen Transferleistungen (KdU) benötigen.

Sheet Bremerhaven
A1: Stadt Bremerhaven | D1: 2015 | E1: 2016 | F1: 2017 | G1: 2018 | H1: 2019 | I1: 2020
A2: Ressourcenbedarf
A3: Personal | D3: =D5+D6+D7+D8 -> 172812.08 | E3: =E5+E6+E7+E8 -> 414749 | F3: =F5+F6+F7+F8 -> 420970.23 | G3: =G5+G6+G7+G8 -> 427284.79 | H3: =H5+H6+H7+H8 -> 433694.06 | I3: =I5+I6+I7+I8 -> 440199.47
A4: darunter: | B4: Stellenvolumen | C4: Eingruppierung
A5: 1. | B5: 1 | C5: EG 13Ü | D5: =E5/12*5 -> 34170.417 | E5: 82009 | F5: =E5*1.015 -> 83239.135 | G5: =F5*1.015 -> 84487.722 | H5: =G5*1.015 -> 85755.038 | I5: =H5*1.015 -> 87041.363 | K5: 1 Stelle 2016 = | L5: 82009
A6: 1. | B6: 2 | C6: EG 12 | D6: =E6/12*5 -> 61000 | E6: =73200*2 -> 146400 | F6: =E6*1.015 -> 148596 | G6: =F6*1.015 -> 150824.94 | H6: =G6*1.015 -> 153087.31 | I6: =H6*1.015 -> 155383.62 | K6: 1 Stelle 2016 = | L6: 73200
A7: 2. | B7: 2 | C7: EG 11 | D7: =E7/12*5 -> 56333.333 | E7: =67600*2 -> 135200 | F7: =E7*1.015 -> 137228 | G7: =F7*1.015 -> 139286.42 | H7: =G7*1.015 -> 141375.72 | I7: =H7*1.015 -> 143496.35 | K7: 1 Stelle 2016 = | L7: 67600
A8: 4. | B8: 1 | C8: A 13 | D8: =E8/12*5 -> 21308.333 | E8: 51140 | F8: =E8*1.015 -> 51907.1 | G8: =F8*1.015 -> 52685.706 | H8: =G8*1.015 -> 53475.992 | I8: =H8*1.015 -> 54278.132 | K8: 1 Stelle 2016 = | L8: 51140
A10: Sachmittel | D10: =D3/100*20 -> 34562.417 | E10: =E3/100*20 -> 82949.8 | F10: =E10*1.02 -> 84608.796 | G10: =F10*1.02 -> 86300.972 | H10: =G10*1.02 -> 88026.991 | I10: =H10*1.02 -> 89787.531
D11: 60000 | E11: 60000
A13: Investitionen | D13: ='[1]Dezernat III Sozialamt'!D11+'[1]Dezernat III AfJFF'!D14+'[1]Dezernat IV'!D15 -> 33000 | E13: ='[1]Dezernat III Sozialamt'!E11+'[1]Dezernat III AfJFF'!E14+'[1]Dezernat IV'!E15 -> 700 | F13: ='[1]Dezernat III Sozialamt'!F11+'[1]Dezernat III AfJFF'!F14+'[1]Dezernat IV'!F15 -> 700 | G13: ='[1]Dezernat III Sozialamt'!G11+'[1]Dezernat III AfJFF'!G14+'[1]Dezernat IV'!G15 -> 700 | H13: ='[1]Dezernat III Sozialamt'!H11+'[1]Dezernat III AfJFF'!H14+'[1]Dezernat IV'!H15 -> 700 | I13: ='[1]Dezernat III Sozialamt'!I11+'[1]Dezernat III AfJFF'!I14+'[1]Dezernat IV'!I15 -> 3400
A15: GESAMT | D15: =SUM(D3+D10+D13+D11) -> 300374.5 | E15: =SUM(E3+E10+E13+E11) -> 558398.8 | F15: =SUM(F3+F10+F13) -> 506279.03 | G15: =SUM(G3+G10+G13) -> 514285.76 | H15: =SUM(H3+H10+H13) -> 522421.05 | I15: =SUM(I3+I10+I13) -> 533387
A16: nachrichtlich: 2 Stellen EG 11 für neue Aufgabe der JBA "Aufsuchende Beratung" aus ESF finanziert (SWAH) | D16: 108160 | E16: 162240 | F16: 167107 | G16: 172120 | H16: 177284 | I16: 182603
D20: 2015 | E20: 2016 | F20: 2017 | G20: 2018 | H20: 2019 | I20: 2020
A21: Synergie- und Einspareffekte
A22: KdU Junge Flüchtlinge, Junge Menschen Ü 25 | E22: 42000 | F22: 42000 | G22: 42000 | H22: 42000 | I22: 42000
A23: Verhinderung von Werkstatt 15.000/Fall | E23: 15000 | F23: 15000 | G23: 15000 | H23: 15000 | I23: 15000
A24: analog Bremen 4 bis 20 weniger Jugendhilfeleistungen à 15.000 € jährlich | E24: 60000 | F24: 180000 | G24: 300000 | H24: 300000 | I24: 300000
A25: Einsparungen JBA im schul. Übergangssystem | D25: ='Dez IV'!D19 -> 0 | E25: ='Dez IV'!E19 -> 0 | F25: ='Dez IV'!F19 -> 10078.125 | G25: ='Dez IV'!G19 -> 24187.5 | H25: ='Dez IV'!H19 -> 34265.625 | I25: ='Dez IV'!I19 -> 48375
A26: Transferleistungen nach SGB II kommunal (KdU) | D26: ='Einsparungen SGB II Bhv'!B9 -> 0 | E26: ='Einsparungen SGB II Bhv'!C9 -> 0 | F26: ='Einsparungen SGB II Bhv'!D9 -> 0 | G26: ='Einsparungen SGB II Bhv'!E9 -> 85250 | H26: ='Einsparungen SGB II Bhv'!F9 -> 375100 | I26: ='Einsparungen SGB II Bhv'!G9 -> 869550
A28: GESAMT | D28: =SUM(D22:D26) -> 0 | E28: =SUM(E22:E26) -> 117000 | F28: =SUM(F22:F26) -> 247078.12 | G28: =SUM(G22:G26) -> 466437.5 | H28: =SUM(H22:H26) -> 766365.62 | I28: =SUM(I22:I26) -> 1274925
A30: Personal ab August 2015 (= 5 Monate im Jahr 2015), Steigerung der Personalkosten ab 2017 um jährlich 1,5 %
A31: Sachkosten = 20 % der Personalkosten 2015 und 2016, ab 2017 Steigerung um jährlich 2 %

Sheet Dez III Sozialamt
A1: Dezernat III Sozialamt | D1: 2015 | E1: 2016 | F1: 2017 | G1: 2018 | H1: 2019 | I1: 2020
A2: Ressourcenbedarf
A3: Personal | D3: =SUM(D5:D6) -> 15250 | E3: =SUM(E5:E6) -> 36600 | F3: =SUM(F5:F6) -> 37149 | G3: =SUM(G5:G6) -> 37706.235 | H3: =SUM(H5:H6) -> 38271.829 | I3: =SUM(I5:I6) -> 38845.906
A4: darunter: | B4: Stellenvolumen | C4: Eingruppierung
A5: 1. | B5: 0.5 | C5: EG 12 | D5: =(73200/2)/12*5 -> 15250 | E5: =73200/2 -> 36600 | F5: =E5*1.015 -> 37149 | G5: =F5*1.015 -> 37706.235 | H5: =G5*1.015 -> 38271.829 | I5: =H5*1.015 -> 38845.906
A8: Sachmittel | D8: =D3/100*20 -> 3050 | E8: =E3/100*20 -> 7320 | F8: =E8*1.02 -> 7466.4 | G8: =F8*1.02 -> 7615.728 | H8: =G8*1.02 -> 7768.0426 | I8: =H8*1.02 -> 7923.4034
A10: Investitionen
A12: GESAMT | D12: =SUM(D3+D8+D10) -> 18300 | E12: =SUM(E3+E8+E10) -> 43920 | F12: =SUM(F3+F8+F10) -> 44615.4 | G12: =SUM(G3+G8+G10) -> 45321.963 | H12: =SUM(H3+H8+H10) -> 46039.871 | I12: =SUM(I3+I8+I10) -> 46769.309
C13: bei Beginn 01.08.2015 | D13: 41916
D16: 2015 | E16: 2016 | F16: 2017 | G16: 2018 | H16: 2019 | I16: 2020
A17: Synergie- und Einspareffekte
A18: KdU Junge Flüchtlinge, Junge Menschen Ü 25 | E18: 42000 | F18: 42000 | G18: 42000 | H18: 42000 | I18: 42000
A19: Verhinderung von Werkstatt 15.000/Fall | E19: 15000 | F19: 15000 | G19: 15000 | H19: 15000 | I19: 15000
A20: …
A22: GESAMT | D22: =SUM(D18:D20) -> 0 | E22: =SUM(E18:E20) -> 57000 | F22: =SUM(F18:F20) -> 57000 | G22: =SUM(G18:G20) -> 57000 | H22: =SUM(H18:H20) -> 57000 | I22: =SUM(I18:I20) -> 57000

Sheet Dez III AfJFF III4
A1: Dezernat III AfJFF/Dezernat III/4 | D1: 2015 | E1: 2016 | F1: 2017 | G1: 2018 | H1: 2019 | I1: 2020
A2: Ressourcenbedarf
A3: Personal | D3: =D5 -> 15250 | E3: =E5 -> 36600 | F3: =F5 -> 37149 | G3: =G5 -> 37706.235 | H3: =H5 -> 38271.829 | I3: =I5 -> 38845.906
A4: darunter: | B4: Stellenvolumen | C4: Eingruppierung
A5: 1. | B5: 0.5 | C5: EG 12 | D5: =(73200/2)/12*5 -> 15250 | E5: =73200/2 -> 36600 | F5: =E5*1.015 -> 37149 | G5: =F5*1.015 -> 37706.235 | H5: =G5*1.015 -> 38271.829 | I5: =H5*1.015 -> 38845.906
A6: Fachberatung | B6: 2 | C6: EG 11 | D6: =E6/12*5 -> 56333.333 | E6: =67600*2 -> 135200 | F6: =E6*1.015 -> 137228 | G6: =F6*1.015 -> 139286.42 | H6: =G6*1.015 -> 141375.72 | I6: =H6*1.015 -> 143496.35
A9: Sachmittel | D9: =D3/100*20 -> 3050 | E9: =E3/100*20 -> 7320 | F9: =E9*1.02 -> 7466.4 | G9: =F9*1.02 -> 7615.728 | H9: =G9*1.02 -> 7768.0426 | I9: =H9*1.02 -> 7923.4034
A10: Fallsteigerung analog Bremen, 5 Fälle à 15.000 | D10: 60000 | E10: 60000
A12: Investitionen | D12: 13000 | E12: 300 | F12: 300 | G12: 300 | H12: 300 | I12: 3000
A14: GESAMT | D14: =D3+D9+D12+D10 -> 91300 | E14: =E3+E9+E12+E10 -> 104220 | F14: =F3+F9+F12+F10 -> 44915.4 | G14: =G3+G9+G12+G10 -> 45621.963 | H14: =H3+H9+H12+H10 -> 46339.871 | I14: =I3+I9+I12+I10 -> 49769.309
A15: nachrichtlich: 2 Stellen EG 11 für neue Aufgabe der JBA "Aufsuchende Beratung" aus ESF finanziert (SWAH) | D15: 108160 | E15: 162240 | F15: 167107 | G15: 172120 | H15: 177284 | I15: 182603
D19: 2015 | E19: 2016 | F19: 2017 | G19: 2018 | H19: 2019 | I19: 2020
A20: Synergie- und Einspareffekte
A21: analog Bremen 4 bis 20 weniger Jugendhilfeleistungen à 15.000 € jährlich | E21: 60000 | F21: 180000 | G21: 300000 | H21: 300000 | I21: 300000
A24: GESAMT | D24: =SUM(D21:D22) -> 0 | E24: =SUM(E21:E22) -> 60000 | F24: =SUM(F21:F22) -> 180000 | G24: =SUM(G21:G22) -> 300000 | H24: =SUM(H21:H22) -> 300000 | I24: =SUM(I21:I22) -> 300000

Sheet Dez IV
A1: Dezernat IV | D1: 2015 | E1: 2016 | F1: 2017 | G1: 2018 | H1: 2019 | I1: 2020
A2: Ressourcenbedarf
A3: Personal | D3: =SUM(D5:D7) -> 85978.75 | E3: =SUM(E5:E7) -> 206349 | F3: =SUM(F5:F7) -> 209444.23 | G3: =SUM(G5:G7) -> 212585.9 | H3: =SUM(H5:H7) -> 215774.69 | I3: =SUM(I5:I7) -> 219011.31
A4: darunter: | B4: Stellenvolumen | C4: Eingruppierung
A5: BO-Teams | B5: 1 | C5: A 13 | D5: =E5/12*5 -> 21308.333 | E5: 51140 | F5: =E5*1.015 -> 51907.1 | G5: =F5*1.015 -> 52685.706 | H5: =G5*1.015 -> 53475.992 | I5: =H5*1.015 -> 54278.132
A6: BO/JBA | B6: 1 | C6: EG 13 | D6: =E6/12*5 -> 34170.417 | E6: 82009 | F6: =E6*1.015 -> 83239.135 | G6: =F6*1.015 -> 84487.722 | H6: =G6*1.015 -> 85755.038 | I6: =H6*1.015 -> 87041.363
A7: Monitg. | B7: 1 | C7: EG 12 | D7: =E7/12*5 -> 30500 | E7: 73200 | F7: =E7*1.015 -> 74298 | G7: =F7*1.015 -> 75412.47 | H7: =G7*1.015 -> 76543.657 | I7: =H7*1.015 -> 77691.812
A9: Sachmittel | D9: =D3/100*20 -> 17195.75 | E9: =E3/100*20 -> 41269.8 | F9: =E9*1.02 -> 42095.196 | G9: =F9*1.02 -> 42937.1 | H9: =G9*1.02 -> 43795.842 | I9: =H9*1.02 -> 44671.759
A11: Investitionen | D11: 20000 | E11: 400 | F11: 400 | G11: 400 | H11: 400 | I11: 400
A13: GESAMT | D13: =SUM(D3+D9+D11) -> 123174.5 | E13: =SUM(E3+E9+E11) -> 248018.8 | F13: =SUM(F3+F9+F11) -> 251939.43 | G13: =SUM(G3+G9+G11) -> 255923 | H13: =SUM(H3+H9+H11) -> 259970.53 | I13: =SUM(I3+I9+I11) -> 264083.07
D17: 2015 | E17: 2016 | F17: 2017 | G17: 2018 | H17: 2019 | I17: 2020
A18: Synergie- und Einspareffekte
A19: Einsparungen JBA im schul. Übergangssystem | D19: =SBW!D54 -> 0 | E19: =SBW!E54 -> 0 | F19: =SBW!F54 -> 10078.125 | G19: =SBW!G54 -> 24187.5 | H19: =SBW!H54 -> 34265.625 | I19: =SBW!I54 -> 48375
A22: GESAMT | D22: =D19 -> 0 | E22: =E19 -> 0 | F22: =F19 -> 10078.125 | G22: =G19 -> 24187.5 | H22: =H19 -> 34265.625 | I22: =I19 -> 48375
A28: eingesetzte Ressourcen (SCHÄTZUNG) | G28: Jahreswochenstunden | I28: in €
A29: Berufsorientierung in den Klassen der Jahrgänge 5 bis 10
A30: a) im Unterricht: 2 Lehrerstunden pro Klasse und Jahr (259 Klassenverbände) | G30: =2*259 -> 518 | I30: =G30/27*50000 -> 959259.26
A31: b) im Praktikum: 1,75 Jahreswochenstunden pro Klasse im 9. Jahrgang (43 Klassenverbände) | G31: =1.75*43 -> 75.25 | I31: =G31/27*50000 -> 139351.85
A32: c) zusätzliche Beratungs- und Unterstützungsleistungen: 1 Jahreswochenstunde pro Klasse | G32: =1*259 -> 259 | I32: =G32/27*50000 -> 479629.63
A33: "Schullaufbahnberatung und Übergänge" im Regionalen Beratungs- und Unterstützungszentrum | I33: 16800
A34: Berufspädagogische Beratungsstelle | I34: 50000
A35: GESAMT | I35: =SUM(I30:I34) -> 1645040.7
A37: Es wird von einer durchschnittlichen wöchentlichen Unterrichtsverpflichtung von 27 Stunden pro Lehr-/Beratungskraft in den allgemeinbildenden Schulen und 25 Stunden pro Lehrkraft in der beruflichen Schule und einem Finanzmitteläquivalent von 50.000 € ausgegangen.

Sheet Einsparungen SGB II Bhv
A1: durchschnittliche kommunale Kosten pro Haushalt ("Kosten der Unterkunft" = KdU) | B1: pro Monat: | C1: 341 | D1: pro Jahr: | E1: =C1*12 -> 4092
A3: Stadt Bremerhaven | B3: 2015 | C3: 2016 | D3: 2017 | E3: 2018 | F3: 2019 | G3: 2020
A4: (zusätzliche) Personen, die durch die JBA nach einer Ausbildung ab August einen existenzsichernden Arbeitsplatz finden | E4: 50 | F4: 100 | G4: 150
A5: Reduzierungen der Personen, die durch die JBA nach einer Ausbildung einen existenzsichernden Arbeitsplatz finden, August bis Dezember | E5: 50 | F5: =E5+F4 -> 150 | G5: =F5+G4 -> 300
A6: Reduzierungen der Personen, die durch die JBA nach einer Ausbildung einen existenzsichernden Arbeitsplatz finden, Januar bis Juli | F6: =E5 -> 50 | G6: =F5 -> 150
A7: Einsparungen kommunale Transferkosten August bis Dezember | E7: =E5*($E$1/12*5) -> 85250 | F7: =F5*($E$1/12*5) -> 255750 | G7: =G5*($E$1/12*5) -> 511500
A8: Einsparungen kommunale Transferkosten Januar bis Juli | F8: =F6*($E$1/12*7) -> 119350 | G8: =G6*($E$1/12*7) -> 358050
A9: Einsparungen kommunale Transferkosten Personen mit Ausbildung Januar bis Dezember | E9: =SUM(E7:E8) -> 85250 | F9: =SUM(F7:F8) -> 375100 | G9: =SUM(G7:G8) -> 869550
A12: Annahme: Nach Abschluss ihrer Ausbildung bedürfen weniger junge Menschen ergänzende Hilfen (Kosten der Unterkunft), weil sie eine Arbeitsstelle finden. In dieser Argumentationslogik treten die Effekte nach Beendigung der Ausbildung ein, also erstmals zum August 2018: Ab August 2018: 50 Personen Ab August 2019: weitere 100 Personen Ab August 2020: weitere 150 Personen Wie in der Vorlage zur Ausbildungsgarantie wird weiter davon ausgegangen, dass die betroffenen jungen Menschen für mindestens 3 Jahre keine kommunalen Transferleistungen (KdU) benötigen.
